BEGIN:VCALENDAR
VERSION:2.0
PRODID:-//Women&#039;s Empowerment - ECPv6.15.20//NONSGML v1.0//EN
CALSCALE:GREGORIAN
METHOD:PUBLISH
X-WR-CALNAME:Women&#039;s Empowerment
X-ORIGINAL-URL:https://womens-empowerment.org
X-WR-CALDESC:Events for Women&#039;s Empowerment
REFRESH-INTERVAL;VALUE=DURATION:PT1H
X-Robots-Tag:noindex
X-PUBLISHED-TTL:PT1H
BEGIN:VTIMEZONE
TZID:UTC
BEGIN:STANDARD
TZOFFSETFROM:+0000
TZOFFSETTO:+0000
TZNAME:UTC
DTSTART:20240101T000000
END:STANDARD
END:VTIMEZONE
BEGIN:VEVENT
DTSTART;TZID=UTC:20250307T190000
DTEND;TZID=UTC:20250307T220000
DTSTAMP:20260424T081549
CREATED:20250305T182545Z
LAST-MODIFIED:20250305T182545Z
UID:3166-1741374000-1741384800@womens-empowerment.org
SUMMARY:Drag Queen Bingo
DESCRIPTION:
URL:https://womens-empowerment.org/event/drag-queen-bingo/
LOCATION:Mango’s Sacramento\, 1930 K St\, Sacramento\, CA 95811\, Sacramento\, CA\, 95811\, United States
END:VEVENT
END:VCALENDAR