BEGIN:VCALENDAR
VERSION:2.0
PRODID:-//Women&#039;s Empowerment - ECPv6.15.20//NONSGML v1.0//EN
CALSCALE:GREGORIAN
METHOD:PUBLISH
X-WR-CALNAME:Women&#039;s Empowerment
X-ORIGINAL-URL:https://womens-empowerment.org
X-WR-CALDESC:Events for Women&#039;s Empowerment
REFRESH-INTERVAL;VALUE=DURATION:PT1H
X-Robots-Tag:noindex
X-PUBLISHED-TTL:PT1H
BEGIN:VTIMEZONE
TZID:UTC
BEGIN:STANDARD
TZOFFSETFROM:+0000
TZOFFSETTO:+0000
TZNAME:UTC
DTSTART:20240101T000000
END:STANDARD
END:VTIMEZONE
BEGIN:VEVENT
DTSTART;VALUE=DATE:20250417
DTEND;VALUE=DATE:20250502
DTSTAMP:20260424T053852
CREATED:20250408T154051Z
LAST-MODIFIED:20250408T155509Z
UID:3193-1744848000-1746143999@womens-empowerment.org
SUMMARY:Early Giving for Big Day of Giving
DESCRIPTION:Early Giving for Big Day of Giving starts April 17\, 2025! You can donate until May 1st\, 2025 the Big Day of Giving. \n 
URL:https://womens-empowerment.org/event/early-giving-for-big-day-of-giving/
LOCATION:CA
END:VEVENT
END:VCALENDAR