BEGIN:VCALENDAR
VERSION:2.0
PRODID:-//Women&#039;s Empowerment - ECPv6.15.20//NONSGML v1.0//EN
CALSCALE:GREGORIAN
METHOD:PUBLISH
X-ORIGINAL-URL:https://womens-empowerment.org
X-WR-CALDESC:Events for Women&#039;s Empowerment
REFRESH-INTERVAL;VALUE=DURATION:PT1H
X-Robots-Tag:noindex
X-PUBLISHED-TTL:PT1H
BEGIN:VTIMEZONE
TZID:UTC
BEGIN:STANDARD
TZOFFSETFROM:+0000
TZOFFSETTO:+0000
TZNAME:UTC
DTSTART:20250101T000000
END:STANDARD
END:VTIMEZONE
BEGIN:VEVENT
DTSTART;TZID=UTC:20260313T100000
DTEND;TZID=UTC:20260313T120000
DTSTAMP:20260423T161230
CREATED:20250627T171518Z
LAST-MODIFIED:20260128T000153Z
UID:3236-1773396000-1773403200@womens-empowerment.org
SUMMARY:Session 102 Graduation
DESCRIPTION:
URL:https://womens-empowerment.org/event/session-100-graduation/
LOCATION:CA
END:VEVENT
BEGIN:VEVENT
DTSTART;TZID=UTC:20260319T173000
DTEND;TZID=UTC:20260319T213000
DTSTAMP:20260423T161230
CREATED:20260221T151107Z
LAST-MODIFIED:20260221T151241Z
UID:3462-1773941400-1773955800@womens-empowerment.org
SUMMARY:25th Anniversary Party
DESCRIPTION:
URL:https://womens-empowerment.org/event/25th-anniversary-party/
LOCATION:Capitol Plaza Building\, 1025 9th St\, Sacramento\, CA\, 95814
ATTACH;FMTTYPE=image/jpeg:https://womens-empowerment.org/wp-content/uploads/2026/02/Instagram-general-posts-2026-10.jpg
END:VEVENT
BEGIN:VEVENT
DTSTART;TZID=UTC:20260324T100000
DTEND;TZID=UTC:20260324T120000
DTSTAMP:20260423T161230
CREATED:20250627T171316Z
LAST-MODIFIED:20260128T001441Z
UID:3234-1774346400-1774353600@womens-empowerment.org
SUMMARY:Session 103 Orientation
DESCRIPTION:
URL:https://womens-empowerment.org/event/session-100-orientation-2/
LOCATION:CA
END:VEVENT
BEGIN:VEVENT
DTSTART;TZID=UTC:20260326T100000
DTEND;TZID=UTC:20260326T120000
DTSTAMP:20260423T161230
CREATED:20250627T171239Z
LAST-MODIFIED:20260128T001501Z
UID:3232-1774519200-1774526400@womens-empowerment.org
SUMMARY:Session 103 Orientation
DESCRIPTION:
URL:https://womens-empowerment.org/event/session-100-orientation/
LOCATION:CA
END:VEVENT
BEGIN:VEVENT
DTSTART;TZID=UTC:20260331T100000
DTEND;TZID=UTC:20260331T120000
DTSTAMP:20260423T161230
CREATED:20260128T000521Z
LAST-MODIFIED:20260128T001519Z
UID:3417-1774951200-1774958400@womens-empowerment.org
SUMMARY:Session 103 Orientation
DESCRIPTION:
URL:https://womens-empowerment.org/event/session-103-orientation/
LOCATION:1590 North A Street Sacramento\, 1590 N A street\, Sacramento\, CA\, 95811\, United States
END:VEVENT
END:VCALENDAR